BEGIN:VCALENDAR
VERSION:2.0
PRODID:-//Food For Change - ECPv5.10.0//NONSGML v1.0//EN
CALSCALE:GREGORIAN
METHOD:PUBLISH
X-WR-CALNAME:Food For Change
X-ORIGINAL-URL:https://foodforchange.coop
X-WR-CALDESC:Events for Food For Change
BEGIN:VTIMEZONE
TZID:America/Chicago
BEGIN:DAYLIGHT
TZOFFSETFROM:-0600
TZOFFSETTO:-0500
TZNAME:CDT
DTSTART:20170312T080000
END:DAYLIGHT
BEGIN:STANDARD
TZOFFSETFROM:-0500
TZOFFSETTO:-0600
TZNAME:CST
DTSTART:20171105T070000
END:STANDARD
TZID:America/New_York
BEGIN:DAYLIGHT
TZOFFSETFROM:-0500
TZOFFSETTO:-0400
TZNAME:EDT
DTSTART:20170312T070000
END:DAYLIGHT
BEGIN:STANDARD
TZOFFSETFROM:-0400
TZOFFSETTO:-0500
TZNAME:EST
DTSTART:20171105T060000
END:STANDARD
END:VTIMEZONE
BEGIN:VEVENT
DTSTART;TZID=America/Chicago:20171102T180000
DTEND;TZID=America/Chicago:20171102T200000
DTSTAMP:20260423T052130
CREATED:20171106T195128Z
LAST-MODIFIED:20171106T211157Z
UID:4494-1509645600-1509652800@foodforchange.coop
SUMMARY:Stevens Point\, WI: Stevens Point Area Co-op
DESCRIPTION:Stevens Point Area Co-op is putting on an event Series entitled ” The Snowball Effect”. This event series will be running November thru February. Each month will have 2 events on the 1st and 3rd Thurs of the Month. This first month is our History month and for our first event we are showing a documentary\, Food For Change\, The Story of Cooperation in America. Food For Change is a feature-length documentary about the history of the co-op movement and food co-ops today. The movie focuses on consumer food co-ops to tell the larger story of cooperatives – their role in American history and their current efforts to create local food systems. A short but awesome group discussion will follow. Snack and riveting conversations provided by Stevens Point Area Co-op! \nEarthcrust Bakery – since 1976\nSee http://www.spacoop.com/ to learn more about the co-op.
URL:https://foodforchange.coop/screening/stevens-point-area-co-op/
ORGANIZER;CN="Stevens%20Point%20Area%20Co-op":MAILTO:http://www.spacoop.com/contact/
END:VEVENT
BEGIN:VEVENT
DTSTART;TZID=America/New_York:20171102T220000
DTEND;TZID=America/New_York:20171102T223000
DTSTAMP:20260423T052130
CREATED:20171008T193834Z
LAST-MODIFIED:20171008T193834Z
UID:4483-1509660000-1509661800@foodforchange.coop
SUMMARY:Lewiston\, ME: Maine Public Television
DESCRIPTION:Contra dance will be featured when Maine Public Television airs Steve Alves’ film Together in Time: A New England Story of Contra Dancing and Music on Thursday November 2\, 2017 at 10PM and Saturday November 4\, 2017 at 11AM.\n\n\n\nTogether in Time explores the changing nature of community life through an enduring form of music and dance that New Englanders formed over generations by combining English country dancing with Celtic fiddle tunes and strutting French-Canadian rhythms. The film follows contra dance and music’s arrival from the British Isles in the 1750s to its height in popularity following the American Revolution.  Along the way we discover little-known country fiddlers like 19th century African-American barber John Putnam of Greenfield\, Massachusetts.\n\nContra dance and music have a powerful ability to transcend cultural and political boundaries\, and yet they nearly became extinct until a revitalization took place in the twentieth century.  World-famous auto magnate Henry Ford\, through his passions for this unique community music\, kept it glowing through the years. The current contra dance revival was begun by the counterculture movement in the 1970s\, and is a sharp contrast to the Ford era.  The film introduces us to 20th century dance caller Ralph Page; mentor Bob McQuillen; modern pied-pipers of contra\, Dudley Laufman and Rodney Miller; 101 year old dancer Florence Giffin\, 13 year old musician Conor Sleith\, and legions of long-haired hippies who found haven from industrialized society in the pastoral clip-clip of contra. Yet the story does not end there. In one of the film’s most moving sequences\, we see how the music passes on from one generation to the next.
URL:https://foodforchange.coop/screening/contra-dance-maine-public-television/
LOCATION:Maine Public Broadcasting Network\, 1450 Lisbon St.\, Lewiston\, ME\, 04240\, United States
CATEGORIES:screening
END:VEVENT
END:VCALENDAR