BEGIN:VCALENDAR
VERSION:2.0
PRODID:-//Food For Change - ECPv5.10.0//NONSGML v1.0//EN
CALSCALE:GREGORIAN
METHOD:PUBLISH
X-WR-CALNAME:Food For Change
X-ORIGINAL-URL:https://foodforchange.coop
X-WR-CALDESC:Events for Food For Change
BEGIN:VTIMEZONE
TZID:America/Chicago
BEGIN:DAYLIGHT
TZOFFSETFROM:-0600
TZOFFSETTO:-0500
TZNAME:CDT
DTSTART:20170312T080000
END:DAYLIGHT
BEGIN:STANDARD
TZOFFSETFROM:-0500
TZOFFSETTO:-0600
TZNAME:CST
DTSTART:20171105T070000
END:STANDARD
END:VTIMEZONE
BEGIN:VEVENT
DTSTART;TZID=America/Chicago:20171026T183000
DTEND;TZID=America/Chicago:20171026T203000
DTSTAMP:20260423T161152
CREATED:20171106T205941Z
LAST-MODIFIED:20171106T205941Z
UID:4503-1509042600-1509049800@foodforchange.coop
SUMMARY:Blue Bell\, PA: Weavers Way Co-op
DESCRIPTION:“Food For Change” is the food co-op documentary\, a feature-length film about the history of the co-op movement and food co-ops today. The goal of the film is to raise awareness nationally about the cooperative economic model\, promote cross-sector cooperative collaboration and provide cooperative education to co-op members\, college students and the general public. The movie focuses on consumer food co-ops to tell the larger story of cooperatives — their role in American history and their current efforts to create local food systems. \nThis program is part of a series in honor of Co-op Month\, celebrated annually in October across the United States for more than half a century. During Co-op Month\, cooperative businesses work to inspire community discussion about food systems\, fair food access and cooperative solutions to chronic food-related inequities and other issues. \nThe film will be held at the Wissahickon Valley Public Library in Blue Bell. \nFREE. REGISTER HERE.
URL:https://foodforchange.coop/screening/food-co-op-documentary/
CATEGORIES:screening
END:VEVENT
END:VCALENDAR