BEGIN:VCALENDAR
VERSION:2.0
PRODID:-//Food For Change - ECPv5.10.0//NONSGML v1.0//EN
CALSCALE:GREGORIAN
METHOD:PUBLISH
X-WR-CALNAME:Food For Change
X-ORIGINAL-URL:https://foodforchange.coop
X-WR-CALDESC:Events for Food For Change
BEGIN:VTIMEZONE
TZID:America/New_York
BEGIN:DAYLIGHT
TZOFFSETFROM:-0500
TZOFFSETTO:-0400
TZNAME:EDT
DTSTART:20150308T070000
END:DAYLIGHT
BEGIN:STANDARD
TZOFFSETFROM:-0400
TZOFFSETTO:-0500
TZNAME:EST
DTSTART:20151101T060000
END:STANDARD
END:VTIMEZONE
BEGIN:VEVENT
DTSTART;TZID=America/New_York:20151107T172000
DTEND;TZID=America/New_York:20151107T193000
DTSTAMP:20260424T050453
CREATED:20150816T124528Z
LAST-MODIFIED:20150926T020934Z
UID:3496-1446916800-1446924600@foodforchange.coop
SUMMARY:Friday Harbor\, WA: 3rd Annual Film Fest
DESCRIPTION:Food for Change is featured as part of the Friday Harbor Film Festival  sponsored by San Juan Island Food Co-op and Anna Coffelt.
URL:https://foodforchange.coop/screening/friday-harbor-wa-3rd-annual-film-fest/
LOCATION:San Juan Grange\, 152 1st Street \, Friday Harbor\, San Juan Island\, 98250\, United States
END:VEVENT
END:VCALENDAR