BEGIN:VCALENDAR
VERSION:2.0
PRODID:-//Food For Change - ECPv5.10.0//NONSGML v1.0//EN
CALSCALE:GREGORIAN
METHOD:PUBLISH
X-WR-CALNAME:Food For Change
X-ORIGINAL-URL:https://foodforchange.coop
X-WR-CALDESC:Events for Food For Change
BEGIN:VTIMEZONE
TZID:America/New_York
BEGIN:DAYLIGHT
TZOFFSETFROM:-0500
TZOFFSETTO:-0400
TZNAME:EDT
DTSTART:20150308T070000
END:DAYLIGHT
BEGIN:STANDARD
TZOFFSETFROM:-0400
TZOFFSETTO:-0500
TZNAME:EST
DTSTART:20151101T060000
END:STANDARD
END:VTIMEZONE
BEGIN:VEVENT
DTSTART;TZID=America/New_York:20151017T110000
DTEND;TZID=America/New_York:20151017T130000
DTSTAMP:20260425T142522
CREATED:20151007T132729Z
LAST-MODIFIED:20151007T132729Z
UID:3549-1445079600-1445086800@foodforchange.coop
SUMMARY:East Aurora\, NY: East Aurora Co-op Market
DESCRIPTION:Proceeds from your donation will benefit the Boys & Girls Club of East Aurora. There will be a raffle\, co-op trivia\, special snacks\, and more.
URL:https://foodforchange.coop/screening/east-aurora-ny-east-aurora-co-op-market/
LOCATION:Aurora Theatre\, 673 Main Street\, East Aurora \, NY\, 14052\, United States
ORGANIZER;CN="East%20Aurora%20Cooperative%20Market":MAILTO:info@eastaurorafood.coop
END:VEVENT
END:VCALENDAR