BEGIN:VCALENDAR
VERSION:2.0
PRODID:-//Food For Change - ECPv5.10.0//NONSGML v1.0//EN
CALSCALE:GREGORIAN
METHOD:PUBLISH
X-WR-CALNAME:Food For Change
X-ORIGINAL-URL:https://foodforchange.coop
X-WR-CALDESC:Events for Food For Change
BEGIN:VTIMEZONE
TZID:America/New_York
BEGIN:DAYLIGHT
TZOFFSETFROM:-0500
TZOFFSETTO:-0400
TZNAME:EDT
DTSTART:20140309T070000
END:DAYLIGHT
BEGIN:STANDARD
TZOFFSETFROM:-0400
TZOFFSETTO:-0500
TZNAME:EST
DTSTART:20141102T060000
END:STANDARD
END:VTIMEZONE
BEGIN:VEVENT
DTSTART;TZID=America/New_York:20140712T140000
DTEND;TZID=America/New_York:20140712T170000
DTSTAMP:20260424T211257
CREATED:20140703T174359Z
LAST-MODIFIED:20140703T174430Z
UID:2637-1405173600-1405184400@foodforchange.coop
SUMMARY:Detroit Black Food Security Network Screening at the  Charles  H.  Wright  Museum of African American History
DESCRIPTION:Join the DBFSN and the Detroit People’s Food Co-op for the Detroit Premiere screening of Food For Change as a kick-off to their membership drive! Free admission.
URL:https://foodforchange.coop/screening/detroit-black-food-security-network-screening-at-the-charles-h-wright-museum-of-african-american-history/
LOCATION:Charles H. Wright Museum of African American History\, 315 E. Warren Drive\, Detroit\, MI\, United States
CATEGORIES:screening
ATTACH;FMTTYPE=image/jpeg:https://foodforchange.coop/wp-content/uploads/2014/07/Food_For_Change_Flyer-1.jpg
END:VEVENT
END:VCALENDAR