BEGIN:VCALENDAR
VERSION:2.0
PRODID:-//Food For Change - ECPv5.10.0//NONSGML v1.0//EN
CALSCALE:GREGORIAN
METHOD:PUBLISH
X-WR-CALNAME:Food For Change
X-ORIGINAL-URL:https://foodforchange.coop
X-WR-CALDESC:Events for Food For Change
BEGIN:VTIMEZONE
TZID:America/New_York
BEGIN:DAYLIGHT
TZOFFSETFROM:-0500
TZOFFSETTO:-0400
TZNAME:EDT
DTSTART:20180311T070000
END:DAYLIGHT
BEGIN:STANDARD
TZOFFSETFROM:-0400
TZOFFSETTO:-0500
TZNAME:EST
DTSTART:20181104T060000
END:STANDARD
END:VTIMEZONE
BEGIN:VEVENT
DTSTART;TZID=America/New_York:20181009T000000
DTEND;TZID=America/New_York:20181009T000000
DTSTAMP:20260423T041415
CREATED:20180925T162222Z
LAST-MODIFIED:20181002T201735Z
UID:4953-1539043200-1539043200@foodforchange.coop
SUMMARY:WI — CROPP Cooperative/Organic Valley
DESCRIPTION:There will be two screenings for employees: \n\nOctober 9 @ Headquarters in La Farge WI\nOctober 30 @ Cashton Office Building in Cashton WI
URL:https://foodforchange.coop/screening/wi-cropp-cooperative-organic-valley-2/
CATEGORIES:screening
END:VEVENT
END:VCALENDAR