BEGIN:VCALENDAR
VERSION:2.0
PRODID:-//Food For Change - ECPv5.10.0//NONSGML v1.0//EN
CALSCALE:GREGORIAN
METHOD:PUBLISH
X-WR-CALNAME:Food For Change
X-ORIGINAL-URL:https://foodforchange.coop
X-WR-CALDESC:Events for Food For Change
BEGIN:VTIMEZONE
TZID:America/New_York
BEGIN:DAYLIGHT
TZOFFSETFROM:-0500
TZOFFSETTO:-0400
TZNAME:EDT
DTSTART:20180311T070000
END:DAYLIGHT
BEGIN:STANDARD
TZOFFSETFROM:-0400
TZOFFSETTO:-0500
TZNAME:EST
DTSTART:20181104T060000
END:STANDARD
END:VTIMEZONE
BEGIN:VEVENT
DTSTART;TZID=America/New_York:20181005T200000
DTEND;TZID=America/New_York:20181005T200000
DTSTAMP:20260422T235733
CREATED:20180919T213923Z
LAST-MODIFIED:20180919T213923Z
UID:4905-1538769600-1538769600@foodforchange.coop
SUMMARY:VT — Vermont PBS\, 10/5
DESCRIPTION:SCREENING TIME: Friday\, October 5\, 8pmSCREENING PLACE: View on the Vermont PBS Plus channel (https://www.vermontpbs.org/schedule)
URL:https://foodforchange.coop/screening/vt-vermont-pbs-10-5-2/
END:VEVENT
END:VCALENDAR