BEGIN:VCALENDAR
VERSION:2.0
PRODID:-//Food For Change - ECPv5.10.0//NONSGML v1.0//EN
CALSCALE:GREGORIAN
METHOD:PUBLISH
X-WR-CALNAME:Food For Change
X-ORIGINAL-URL:https://foodforchange.coop
X-WR-CALDESC:Events for Food For Change
BEGIN:VTIMEZONE
TZID:America/New_York
BEGIN:DAYLIGHT
TZOFFSETFROM:-0500
TZOFFSETTO:-0400
TZNAME:EDT
DTSTART:20180311T070000
END:DAYLIGHT
BEGIN:STANDARD
TZOFFSETFROM:-0400
TZOFFSETTO:-0500
TZNAME:EST
DTSTART:20181104T060000
END:STANDARD
END:VTIMEZONE
BEGIN:VEVENT
DTSTART;TZID=America/New_York:20181005T180000
DTEND;TZID=America/New_York:20181005T180000
DTSTAMP:20260422T215201
CREATED:20180919T213859Z
LAST-MODIFIED:20180919T213859Z
UID:4900-1538762400-1538762400@foodforchange.coop
SUMMARY:NC — Renaissance Community Cooperative\, 10/5
DESCRIPTION:SCREENING TIME: Friday\, October 5\, 6pmSCREENING PLACE: Renaissance Community Cooperative\, 2517 Phillips Ave\, Greensboro\, NC 27405
URL:https://foodforchange.coop/screening/nc-renaissance-community-cooperative-10-5-2/
END:VEVENT
END:VCALENDAR