BEGIN:VCALENDAR
VERSION:2.0
PRODID:-//Food For Change - ECPv5.10.0//NONSGML v1.0//EN
CALSCALE:GREGORIAN
METHOD:PUBLISH
X-WR-CALNAME:Food For Change
X-ORIGINAL-URL:https://foodforchange.coop
X-WR-CALDESC:Events for Food For Change
BEGIN:VTIMEZONE
TZID:America/New_York
BEGIN:DAYLIGHT
TZOFFSETFROM:-0500
TZOFFSETTO:-0400
TZNAME:EDT
DTSTART:20180311T070000
END:DAYLIGHT
BEGIN:STANDARD
TZOFFSETFROM:-0400
TZOFFSETTO:-0500
TZNAME:EST
DTSTART:20181104T060000
END:STANDARD
END:VTIMEZONE
BEGIN:VEVENT
DTSTART;TZID=America/New_York:20181011T220000
DTEND;TZID=America/New_York:20181011T220000
DTSTAMP:20260423T185152
CREATED:20180919T213657Z
LAST-MODIFIED:20180919T213657Z
UID:4898-1539295200-1539295200@foodforchange.coop
SUMMARY:ME — Maine Public Broadcasting Corporation\, 10/11 & 10/13
DESCRIPTION:SCREENING TIME: Thursday\, October 11 @10pm & October 13 @11amSCREENING PLACE: View on Maine Public Television (http://www.mainepublic.org/maine-public-television-schedule)
URL:https://foodforchange.coop/screening/me-maine-public-broadcasting-corporation-10-11-10-13-2/
END:VEVENT
END:VCALENDAR