BEGIN:VCALENDAR
VERSION:2.0
PRODID:-//Food For Change - ECPv5.10.0//NONSGML v1.0//EN
CALSCALE:GREGORIAN
METHOD:PUBLISH
X-WR-CALNAME:Food For Change
X-ORIGINAL-URL:https://foodforchange.coop
X-WR-CALDESC:Events for Food For Change
BEGIN:VTIMEZONE
TZID:America/New_York
BEGIN:DAYLIGHT
TZOFFSETFROM:-0500
TZOFFSETTO:-0400
TZNAME:EDT
DTSTART:20180311T070000
END:DAYLIGHT
BEGIN:STANDARD
TZOFFSETFROM:-0400
TZOFFSETTO:-0500
TZNAME:EST
DTSTART:20181104T060000
END:STANDARD
END:VTIMEZONE
BEGIN:VEVENT
DTSTART;TZID=America/New_York:20181011T190000
DTEND;TZID=America/New_York:20181011T190000
DTSTAMP:20260423T165215
CREATED:20180922T022859Z
LAST-MODIFIED:20181004T194755Z
UID:4943-1539284400-1539284400@foodforchange.coop
SUMMARY:MD — Takoma Park-Silver Spring Food Co-op\, 10/11
DESCRIPTION:SCREENING TIME: Thursday\, October 11\, 7p\nSCREENING PLACE: TPSS Co-op\, 201 Ethan Allen Ave\, Takoma Park\, MD 20912
URL:https://foodforchange.coop/screening/md-takoma-park-silver-spring-food-co-op-10-4/
LOCATION:TPSS Co-op\, 201 Ethan Allen Ave\, Takoma Park\, MD\, 20912\, United States
CATEGORIES:screening
END:VEVENT
END:VCALENDAR