BEGIN:VCALENDAR
VERSION:2.0
PRODID:-//Food For Change - ECPv5.10.0//NONSGML v1.0//EN
CALSCALE:GREGORIAN
METHOD:PUBLISH
X-WR-CALNAME:Food For Change
X-ORIGINAL-URL:https://foodforchange.coop
X-WR-CALDESC:Events for Food For Change
BEGIN:VTIMEZONE
TZID:America/New_York
BEGIN:DAYLIGHT
TZOFFSETFROM:-0500
TZOFFSETTO:-0400
TZNAME:EDT
DTSTART:20160313T070000
END:DAYLIGHT
BEGIN:STANDARD
TZOFFSETFROM:-0400
TZOFFSETTO:-0500
TZNAME:EST
DTSTART:20161106T060000
END:STANDARD
END:VTIMEZONE
BEGIN:VEVENT
DTSTART;TZID=America/New_York:20160517T180000
DTEND;TZID=America/New_York:20160517T193000
DTSTAMP:20260423T221901
CREATED:20160518T225928Z
LAST-MODIFIED:20160518T225928Z
UID:3693-1463508000-1463513400@foodforchange.coop
SUMMARY:Lexington\, KY: Good Foods Coop
DESCRIPTION:
URL:https://foodforchange.coop/screening/lexington-ky-good-foods-coop/
LOCATION:Farish Theater\, 140 E. Main St.\, Lexington\, KY\, 40507\, United States
ORGANIZER;CN="Good%20Foods%20Co-op":MAILTO:goodfoods@goodfoods.coop
END:VEVENT
END:VCALENDAR