BEGIN:VCALENDAR
VERSION:2.0
PRODID:-//Food For Change - ECPv5.10.0//NONSGML v1.0//EN
CALSCALE:GREGORIAN
METHOD:PUBLISH
X-WR-CALNAME:Food For Change
X-ORIGINAL-URL:https://foodforchange.coop
X-WR-CALDESC:Events for Food For Change
BEGIN:VTIMEZONE
TZID:America/New_York
BEGIN:DAYLIGHT
TZOFFSETFROM:-0500
TZOFFSETTO:-0400
TZNAME:EDT
DTSTART:20160313T070000
END:DAYLIGHT
BEGIN:STANDARD
TZOFFSETFROM:-0400
TZOFFSETTO:-0500
TZNAME:EST
DTSTART:20161106T060000
END:STANDARD
END:VTIMEZONE
BEGIN:VEVENT
DTSTART;TZID=America/New_York:20160427T180000
DTEND;TZID=America/New_York:20160427T200000
DTSTAMP:20260424T000105
CREATED:20160404T145802Z
LAST-MODIFIED:20160404T145802Z
UID:3671-1461780000-1461787200@foodforchange.coop
SUMMARY:Ithaca\, NY: Greenstar Coop
DESCRIPTION:Come for the film\, stay for the panel discussion to follow.  GreenStar Natural Foods Market is a dynamic member-owned\, community consumer cooperative\, over 11\,000 members strong. GreenStar celebrates fresh\, whole foods\, sustainable living and the transformative power of a strong local economy. \nJoining a coop means becoming a member-owner\, along with other cooperators worldwide.  Food coops are changing the way business is done by placing people and environment first\, and investing profits back into the co-op and community. \nFood For Change is the first film to examine the important historic role played by food co-ops: their pioneering quest for organic foods\, and their current efforts to create regional food systems.  The film shows how cooperatives today strengthen local economies and build food security.  This 82-minute documentary film focuses on food co-ops as a force for dynamic social and economic change in American culture.
URL:https://foodforchange.coop/screening/ithaca-ny-greenstar-coop/
LOCATION:Cornell University\, Uris Hall Auditorium\, 124 Hoy Rd\, Ithaca\, NY\, 14850\, United States
ORGANIZER;CN="GreenStar%20Natural%20Foods%20Market":MAILTO:eap249@cornell.edu
END:VEVENT
END:VCALENDAR