BEGIN:VCALENDAR
VERSION:2.0
PRODID:-//Food For Change - ECPv5.10.0//NONSGML v1.0//EN
CALSCALE:GREGORIAN
METHOD:PUBLISH
X-WR-CALNAME:Food For Change
X-ORIGINAL-URL:https://foodforchange.coop
X-WR-CALDESC:Events for Food For Change
BEGIN:VTIMEZONE
TZID:America/New_York
BEGIN:DAYLIGHT
TZOFFSETFROM:-0500
TZOFFSETTO:-0400
TZNAME:EDT
DTSTART:20170312T070000
END:DAYLIGHT
BEGIN:STANDARD
TZOFFSETFROM:-0400
TZOFFSETTO:-0500
TZNAME:EST
DTSTART:20171105T060000
END:STANDARD
END:VTIMEZONE
BEGIN:VEVENT
DTSTART;TZID=America/New_York:20171214T180000
DTEND;TZID=America/New_York:20171214T200000
DTSTAMP:20260422T122119
CREATED:20171122T230628Z
LAST-MODIFIED:20171122T231527Z
UID:4516-1513274400-1513281600@foodforchange.coop
SUMMARY:Grand Rapids\, MN: Free Range Food Co-op
DESCRIPTION:Members of an emerging food coop in Grand Rapids\, MN are excited to announce a screening of the film Food For Change!  Free Range Food Co-op is partnering up with the MacRostie Art Center again to show the film for the first time.  Mickey Pearson\, board member from Whole Foods Co-op in Duluth will be joining the Grand Rapids cooperators to help facilitate the discussion after the film. \nFree Range journey to become a food coop in Grand Rapids began with a small group of community members. They came together in October 2015 to talk about the possibility of developing a food coop in Grand Rapids area. From the beginning\, the mission at the forefront of the conversation was how to strengthen the local food system in the community. Free Range folks wanted to know how to better support our local growers and producers. During the process\, the group has evolved. Originally a handful of people just trying to wrap their minds around how to even begin\, Free Range Food Co-op in Grand Rapids is now an incorporated entity with hundreds of owners\, and a growing organizing team. \nWay over in Duluth\, there is a thriving consumer-owned cooperative that supports\, invests and partners to create a healthy community including\, but not limited to\, a healthy regional food system.  It’s Whole Foods Co-op\, a full-service\, cooperatively-owned natural foods grocer. \n \n  \nTogether\, Free Range and Whole Foods cooperators will be educating themselves and their communities about the legacy of food cooperatives in America.   You don’t want to miss this! \n \nFood For Change is a documentary film focusing on food co-ops as a force for dynamic social and economic change in American culture. This is the first film to examine the important historical role played by food co-ops\, their pioneering quest for organic foods\, and their current efforts to create regional food systems.
URL:https://foodforchange.coop/screening/food-coop-in-grand-rapids/
LOCATION:Macrostie Art Center\, 405 NW 1st Avenue\, Grand Rapids\, MN\, 55744\, United States
CATEGORIES:screening
ORGANIZER;CN="Free%20Range%20Food%20Co-op":MAILTO:freerangefoodcoop@gmail.com
END:VEVENT
END:VCALENDAR