BEGIN:VCALENDAR
VERSION:2.0
PRODID:-//Food For Change - ECPv5.10.0//NONSGML v1.0//EN
CALSCALE:GREGORIAN
METHOD:PUBLISH
X-WR-CALNAME:Food For Change
X-ORIGINAL-URL:https://foodforchange.coop
X-WR-CALDESC:Events for Food For Change
BEGIN:VTIMEZONE

END:VTIMEZONE
BEGIN:VEVENT
DTSTART;TZID=America/New_York:20260421T204237
DTEND;TZID=America/New_York:20260421T204237
DTSTAMP:20260421T204237
CREATED:20180919T211553Z
LAST-MODIFIED:20180919T211553Z
UID:4867-0-0@foodforchange.coop
SUMMARY:CA — Davis Food Co-op\, 10/6
DESCRIPTION:SCREENING TIME: Saturday\, October 6\, 3pmSCREENING PLACE: Teaching Kitchen at the Davis Food Co-op\, 537 G Street\, Davis\, CA 95616\nINFO: https://davisfood.coop/events/item/1721
URL:https://foodforchange.coop/screening/ca-davis-food-co-op-10-6/
END:VEVENT
END:VCALENDAR